BEGIN:VCALENDAR
VERSION:2.0
PRODID:-//PA Prolife Federation - ECPv6.15.18//NONSGML v1.0//EN
CALSCALE:GREGORIAN
METHOD:PUBLISH
X-WR-CALNAME:PA Prolife Federation
X-ORIGINAL-URL:https://paprolife.org
X-WR-CALDESC:Events for PA Prolife Federation
REFRESH-INTERVAL;VALUE=DURATION:PT1H
X-Robots-Tag:noindex
X-PUBLISHED-TTL:PT1H
BEGIN:VTIMEZONE
TZID:America/New_York
BEGIN:DAYLIGHT
TZOFFSETFROM:-0500
TZOFFSETTO:-0400
TZNAME:EDT
DTSTART:20230312T070000
END:DAYLIGHT
BEGIN:STANDARD
TZOFFSETFROM:-0400
TZOFFSETTO:-0500
TZNAME:EST
DTSTART:20231105T060000
END:STANDARD
BEGIN:DAYLIGHT
TZOFFSETFROM:-0500
TZOFFSETTO:-0400
TZNAME:EDT
DTSTART:20240310T070000
END:DAYLIGHT
BEGIN:STANDARD
TZOFFSETFROM:-0400
TZOFFSETTO:-0500
TZNAME:EST
DTSTART:20241103T060000
END:STANDARD
BEGIN:DAYLIGHT
TZOFFSETFROM:-0500
TZOFFSETTO:-0400
TZNAME:EDT
DTSTART:20250309T070000
END:DAYLIGHT
BEGIN:STANDARD
TZOFFSETFROM:-0400
TZOFFSETTO:-0500
TZNAME:EST
DTSTART:20251102T060000
END:STANDARD
END:VTIMEZONE
BEGIN:VEVENT
DTSTART;TZID=America/New_York:20240915T190000
DTEND;TZID=America/New_York:20240915T203000
DTSTAMP:20260425T235033
CREATED:20240723T135804Z
LAST-MODIFIED:20240723T135804Z
UID:5682-1726426800-1726432200@paprolife.org
SUMMARY:An Evening With Matt Maher
DESCRIPTION:United Hearts Life Mission is hosting a concert with nine-time Grammy nominee and three-time GMA Dove Award winner MATT MAHER. Matt has played at numerous worldwide events including performances for Pope St. John Paul II\, Pope Benedict XVI and Pope Francis. His number one hits include “Lord\, I Need You”\, and “Your Grace is Enough”. \nAll proceeds benefit the non-profit United Hearts Life Mission which provides pro-life OBGYN care to women in the Lehigh Valley. The event will be held on September 15th at 7:00pm in Notre Dame High School’s Alumni Auditorium in Easton\, PA. For more information on the non-profit and to buy tickets please visit: www.unitedhearts.life \n.
URL:https://paprolife.org/event/unitedhearts/
LOCATION:Notre Dame High School\, 3417 Church Rd.\, Easton\, PA\, 18045\, United States
ATTACH;FMTTYPE=image/jpeg:https://paprolife.org/wp-content/uploads/2024/07/Maher_Image.jpg
END:VEVENT
BEGIN:VEVENT
DTSTART;TZID=America/New_York:20240921T190000
DTEND;TZID=America/New_York:20240921T203000
DTSTAMP:20260425T235033
CREATED:20240821T173742Z
LAST-MODIFIED:20240904T184708Z
UID:5735-1726945200-1726950600@paprolife.org
SUMMARY:Movie Time
DESCRIPTION:A screening of the new pro-life docu-film UNTHINKABLE is being hosted at Bishop McDevitt High School on Sept 21st at 7pm. \nTickets are available in advance here: https://mightydistributors.ticketspice.com/unthinkable-an-abby-johnson-film-hosted-by-pennsylvania-pro-life-federation \nPlease note: Children under age 17 will not be admitted without a parent or guardian.
URL:https://paprolife.org/event/unthinkable/
LOCATION:Bishop McDevitt\, 1 Crusader Way\, Harrisburg\, PA\, 17111\, United States
ATTACH;FMTTYPE=image/png:https://paprolife.org/wp-content/uploads/2024/08/Social-Media-graphic-Unthinkable.png
END:VEVENT
BEGIN:VEVENT
DTSTART;VALUE=DATE:20240923
DTEND;VALUE=DATE:20240924
DTSTAMP:20260425T235033
CREATED:20240610T191316Z
LAST-MODIFIED:20240904T194246Z
UID:5603-1727049600-1727135999@paprolife.org
SUMMARY:Pennsylvania March For Life
DESCRIPTION:Join us at the Pennsylvania March for Life at noon on September 23rd at the Capitol Building in Harrisburg! \nThe march around our State Capitol serves as a powerful platform to raise awareness and demonstrate our collective commitment to the sanctity of life. Here are some important details to make this a smooth and stress-free experience for all participants: \n\nSchedule for the day:\n\n9:30 a.m.         Kick-off Mass\, St Patrick’s Cathedral \n10:00 a.m.       Prayer & Praise Gathering\, Main Stage (in front of the Capitol Steps) \n11:00 a.m.       Rally\, Main Stage \n12 Noon          MARCH around Capitol \n1:30 p.m.         Mass\, St. Patrick’s Cathedral \n2. The march will begin near the main stage at the foot of the Capitol Steps on 3rd Street\, continue to North Street\, to Commonwealth Avenue\, to Walnut Street and back to 3rd Street.  \n3. Our staff will have a table with appropriate signs for our marchers near St. Patrick’s Cathedral. \nWe look forward to standing with you in support of this crucial cause. \nFor more information\, call us at 717-541-0034.
URL:https://paprolife.org/event/pamarchforlife2024/
LOCATION:Pennsylvania State Capitol Complex\, 501 N 3rd St\, Harrisburg\, PA\, 17120\, United States
ATTACH;FMTTYPE=image/png:https://paprolife.org/wp-content/uploads/2024/06/PA-March-For-Life-1.png
END:VEVENT
BEGIN:VEVENT
DTSTART;VALUE=DATE:20240923
DTEND;VALUE=DATE:20240924
DTSTAMP:20260425T235033
CREATED:20240905T161031Z
LAST-MODIFIED:20240913T170847Z
UID:5765-1727049600-1727135999@paprolife.org
SUMMARY:PA MFL Bus List
DESCRIPTION:Looking for a bus to the Pennsylvania March For Life? We’ve got you covered. Reach out to the organizers of buses from your area listed below to travel to the Harrisburg. You do not have to join an organization to come to the March. Simply locate a bus from your area\, reserve your spot and join us at the Capitol! \nOur Lady of Guadalupe Church\n\nDeparting from: Our Lady of Guadalupe Church\, Cold Spring Creamery Road\, Buckingham\, PA\nContact: Denise Wilcox\, denisetwilcox1@aol.com\nTiming: Departing at 8:00 a.m.\n\nSt. Cecilia Church\n\nDeparting from: St Cecilia Church\, 535 Rhawn Street Philadelphia PA\nContact: Theresa Kuhar\, TheresaKuhar@gmail.com\nTiming: Departing after 8:30 a.m. Mass. leaving Harrisburg at 2:30 p.m.\n\nKnights of Columbus\, John Paul II Council \n\nDeparting from: St. Patrick’s Church\, 200 E High St Milford PA 18337\nContact:Antonio Perito\, AntonioCPerito@gmail.com\nTiming: Departing at 8:00 a.m.\, leaving Harrisburg at 3:30 p.m.\n\nKnights of Columbus St Pope John XXIII Council\n\nDeparting from: SS Philip & James Parish\, 723 Lincoln Hwy E\, Exton\, PA 19341\nContact: Robert Lisowski\, rmlisowski@gmail.com\nTiming: Departing at 7:00 a.m.\, leaving Harrisburg after the march.\nCost: $20/ per seat\n\n Mary Gate of Heaven Parish \n\nDeparting from: Mary Gate of Heaven Parish 188 W McKinley Ave\, Myerstown\, PA 17067\nContact: Daniel Morris\, dwmorris10@gmail.com\nTiming: Departing at 8:00 a.m.\, leaving from Harrisburg at 1:30 p.m.\n\nSt. Paul of the Cross Parish\n\nDeparting from: St. Anne Church 400 Hoodridge Dr\, Pittsburgh\, PA 15234\nContact: Kathy Raimondi\, Moozie51@gmail.com\nTiming: Departing at 7:00 a.m.\, leaving Harrisburg at 3:00 p.m.\n\nMost Precious Blood of Jesus Parish\n\nDeparting from: Most Precious Blood of Jesus Parish\,  3250 California Ave Pittsburgh PA 15212\nContact: Jeannine Goelz\, Volunteer@mpboj.com\nTiming: Departing at 6:00 a.m.\, leaving Harrisburg at 1:30 a.m.\nCost: $25/ seat\n\n\nChrist the King/St. Matthew Parishes \n\nDeparting from: St Scholastica Church  309 Brilliant Ave\, Aspinwall\, PA 15215\nContact: Cathy Zuza\, johnzuza9403@msn.com / John McNavage\, jcmcnavage@gmail.com\nTiming: Departing at 6:00 a.m.\, leaving Harrisburg at 2:30 p.m.\n\n\nCorpus Christi and St. Catherine Laboure Parishes \n\nDeparting from: St. Catherine Laboure Parish\, St. Louise de Marillac Church\, 320 McMurray Rd. Pittsburgh\, PA 15241\nContact: Karen Hoelle\, kedanley@verizon.net\nTiming: Departing at 5:15 a.m.\, leaving Harrisburg at 3:00 p.m.\n\nSt Robert Bellarmine Parish\n\nDeparting from: St Robert Bellarmine Parish 856 Euclid Ave\, Warrington\, PA 18976\nContact: Bill Bryers\, Billbryers@gmail.com\nTiming: Departing at 8:15 a.m.\, leaving Harrisburg at 2:30 p.m.\n\nDivine Mercy Parish \n\nDeparting from: 184 Washington Place\, Pittsburgh\, PA 15219\nContact: Lauren Shovlin\, lshovlin@divinemercypgh.org\nTiming: Departing at 6:00 a.m.\, leaving Harrisburg at 4:00 p.m.\n\nSaint Luke the Evangelist Parish\n\nDeparting from: SS John & Paul Church\, 2586 Wexford Bayne Road\, Sewickley\, PA\nContact: Marie Pfau\, respectlife@saintluke.net\nTiming: Departing at 6:45 a.m.\, leaving Harrisburg at 1:30 p.m.\n\nPA Pro-life Federation of Berks County Chapter\n\nDeparting from: St. Catharine Church\, 4975 Boyertown Pike\, Reading\, PA 19606\nContact: Christine Gordon\, cbgordon7504@gmail.com\nTiming: Departing at 8:00 a.m. leaving Harrisburg at 3:30 p.m.\n\nSt. Joseph Church Downingtown\n\nDeparting from: St. Joseph Church\, 338 Manor Avenue\, Downingtown\, PA 19335\nContact: Jim Solnosky\, jamessolnosky@yahoo.com\nTiming: Departing at 8:30 a.m.\, leaving Harrisburg at 3:30 p.m.\n\nSt Thomas the Apostle Glen Mills\n\nDeparting from: 430 Valleybrook Rd\, Glen Mills\, PA 19342\nContact: Donna Wroblewski\, themainmom@comcast.net\nTiming: Departing at 8:45 a.m.\, leaving Harrisburg at 2:30p.m.\n\nSt. Katherine Drexel Parish\n\nDeparting from: 1 Peter Dr. Mechanicsburg\, PA\nContact: Susan Campbell\, Campbellsa345@yahoo.com\nTiming: Departing at 8:45 a.m.\, leaving from Harrisburg at 1:45 p.m.\n\nDiocese of Greensburg\n\nDeparting from: Latrobe\, PA\nContact: Kathy Byron\, kathb1133@gmail.com\nTiming: Departing at 6:30 a.m. leaving Harrisburg at 4:00 p.m.\n\nSt. Philip the Apostle Church\n\nDeparting from: St. Philip the Apostle Church\, 2111 Millersville Pike\, Millersville\, PA\nContact: Rosie Gross\, 717-397-6966\nTiming: Leaves at 8:45am\nCost: Free will offering suggested\n\nPA Pro-life Federation of Bedford County Chapter\n\nDeparting from: Wal-Mart Parking Lot\nContact: CALL 623-6887 to reserve your seat (www.BedfordCountyProLife.org/PAmarch)\nTiming: Departing at 9:00 a.m.\nCost: $20 for Adult and $10 for Students\n\nPA Pro-life Federation of Erie County Chapter\n\nDeparting from: Erie\nContact: People for Life at 814-882-1333\nTiming: Departing at 5:00 a.m.\, arriving at Erie at approximately 8pm\nCost: $40 per seat
URL:https://paprolife.org/event/pamfl-bus-list/
LOCATION:PA
ATTACH;FMTTYPE=image/jpeg:https://paprolife.org/wp-content/uploads/2024/01/pexels-jakob-scholz-808846-1-scaled.jpg
END:VEVENT
BEGIN:VEVENT
DTSTART;TZID=America/New_York:20240929T160000
DTEND;TZID=America/New_York:20240929T170000
DTSTAMP:20260425T235033
CREATED:20240723T140247Z
LAST-MODIFIED:20240723T140247Z
UID:5687-1727625600-1727629200@paprolife.org
SUMMARY:Pro-Life Townhall Talk
DESCRIPTION:Are you wondering what’s happening in Pennsylvania on the pro-life front? Pennsylvania Pro-Life Federation’s Maria Gallagher and Remil Teny will shed light on the current state of the pro-life movement in Pennsylvania\, offering insights and perspectives that matter. Join us for the pro-life townhall talk hosted by the Bethlehem/Easton County Chapter on Sept 29th at 4pm at ST. ANNE’S COMMUNITY CENTER\, 375 Hickory St\, Bethlehem\, PA 18018. For more information\, visit www.BethlehemEastonProLife.org or email phlorat@rcn.com.
URL:https://paprolife.org/event/townhall-bethlehem/
LOCATION:ST. ANNE’S COMMUNITY CENTER\, 375 Hickory St\, Bethlehem\, 18018\, United States
ATTACH;FMTTYPE=application/pdf:https://paprolife.org/wp-content/uploads/2024/07/Townhall-talk-Poster-1.pdf
END:VEVENT
END:VCALENDAR