BEGIN:VCALENDAR
VERSION:2.0
PRODID:-//PA Prolife Federation - ECPv6.15.18//NONSGML v1.0//EN
CALSCALE:GREGORIAN
METHOD:PUBLISH
X-ORIGINAL-URL:https://paprolife.org
X-WR-CALDESC:Events for PA Prolife Federation
REFRESH-INTERVAL;VALUE=DURATION:PT1H
X-Robots-Tag:noindex
X-PUBLISHED-TTL:PT1H
BEGIN:VTIMEZONE
TZID:America/New_York
BEGIN:DAYLIGHT
TZOFFSETFROM:-0500
TZOFFSETTO:-0400
TZNAME:EDT
DTSTART:20250309T070000
END:DAYLIGHT
BEGIN:STANDARD
TZOFFSETFROM:-0400
TZOFFSETTO:-0500
TZNAME:EST
DTSTART:20251102T060000
END:STANDARD
BEGIN:DAYLIGHT
TZOFFSETFROM:-0500
TZOFFSETTO:-0400
TZNAME:EDT
DTSTART:20260308T070000
END:DAYLIGHT
BEGIN:STANDARD
TZOFFSETFROM:-0400
TZOFFSETTO:-0500
TZNAME:EST
DTSTART:20261101T060000
END:STANDARD
BEGIN:DAYLIGHT
TZOFFSETFROM:-0500
TZOFFSETTO:-0400
TZNAME:EDT
DTSTART:20270314T070000
END:DAYLIGHT
BEGIN:STANDARD
TZOFFSETFROM:-0400
TZOFFSETTO:-0500
TZNAME:EST
DTSTART:20271107T060000
END:STANDARD
END:VTIMEZONE
BEGIN:VEVENT
DTSTART;TZID=America/New_York:20260921T110000
DTEND;TZID=America/New_York:20260921T150000
DTSTAMP:20260425T120515
CREATED:20260417T210532Z
LAST-MODIFIED:20260417T211503Z
UID:6468-1789988400-1790002800@paprolife.org
SUMMARY:Pennsylvania March for Life
DESCRIPTION:Pennsylvania March for Life – This September \nBe part of something powerful. Join thousands from across the Commonwealth at the 2026 Pennsylvania March for Life on September 21st as we come together in support of life. \nThe day will begin with a rally at 11:00 a.m. at the State Capitol\, followed by the March at noon. Bring your friends\, your family\, and your passion—and stand alongside others who are committed to making a difference. \nFor more information\, contact us at lifelines@paprolife.org
URL:https://paprolife.org/event/pennsylvania-march-for-life/
LOCATION:Pennsylvania State Capitol Complex\, 501 N 3rd St\, Harrisburg\, PA\, 17120\, United States
ATTACH;FMTTYPE=image/png:https://paprolife.org/wp-content/uploads/2026/04/For-Life.png
END:VEVENT
END:VCALENDAR