BEGIN:VCALENDAR
VERSION:2.0
PRODID:-//PA Prolife Federation - ECPv6.15.18//NONSGML v1.0//EN
CALSCALE:GREGORIAN
METHOD:PUBLISH
X-WR-CALNAME:PA Prolife Federation
X-ORIGINAL-URL:https://paprolife.org
X-WR-CALDESC:Events for PA Prolife Federation
REFRESH-INTERVAL;VALUE=DURATION:PT1H
X-Robots-Tag:noindex
X-PUBLISHED-TTL:PT1H
BEGIN:VTIMEZONE
TZID:America/New_York
BEGIN:DAYLIGHT
TZOFFSETFROM:-0500
TZOFFSETTO:-0400
TZNAME:EDT
DTSTART:20230312T070000
END:DAYLIGHT
BEGIN:STANDARD
TZOFFSETFROM:-0400
TZOFFSETTO:-0500
TZNAME:EST
DTSTART:20231105T060000
END:STANDARD
BEGIN:DAYLIGHT
TZOFFSETFROM:-0500
TZOFFSETTO:-0400
TZNAME:EDT
DTSTART:20240310T070000
END:DAYLIGHT
BEGIN:STANDARD
TZOFFSETFROM:-0400
TZOFFSETTO:-0500
TZNAME:EST
DTSTART:20241103T060000
END:STANDARD
BEGIN:DAYLIGHT
TZOFFSETFROM:-0500
TZOFFSETTO:-0400
TZNAME:EDT
DTSTART:20250309T070000
END:DAYLIGHT
BEGIN:STANDARD
TZOFFSETFROM:-0400
TZOFFSETTO:-0500
TZNAME:EST
DTSTART:20251102T060000
END:STANDARD
BEGIN:DAYLIGHT
TZOFFSETFROM:-0500
TZOFFSETTO:-0400
TZNAME:EDT
DTSTART:20260308T070000
END:DAYLIGHT
BEGIN:STANDARD
TZOFFSETFROM:-0400
TZOFFSETTO:-0500
TZNAME:EST
DTSTART:20261101T060000
END:STANDARD
BEGIN:DAYLIGHT
TZOFFSETFROM:-0500
TZOFFSETTO:-0400
TZNAME:EDT
DTSTART:20270314T070000
END:DAYLIGHT
BEGIN:STANDARD
TZOFFSETFROM:-0400
TZOFFSETTO:-0500
TZNAME:EST
DTSTART:20271107T060000
END:STANDARD
END:VTIMEZONE
BEGIN:VEVENT
DTSTART;TZID=America/New_York:20241121T183000
DTEND;TZID=America/New_York:20241121T200000
DTSTAMP:20260425T235320
CREATED:20241024T141518Z
LAST-MODIFIED:20241028T160055Z
UID:5854-1732213800-1732219200@paprolife.org
SUMMARY:Unplanned Movie Screening
DESCRIPTION:Saint Ephrem Parish in Bensalem\, PA is hosting an exciting event on Thursday\, November 21\, 2024. Abby Johnson\, a former director at Planned Parenthood and abortion rights’ advocate who became a pro-life activist will be joining this special event. The movie Unplanned tells her incredible story. After the movie there will be an in person Q&A session with Abby Johnson herself! \nFor more information or any questions regarding this event\, please call the rectory at 215-245-1698. \n 
URL:https://paprolife.org/event/unplanned-screening/
LOCATION:PA
ATTACH;FMTTYPE=application/pdf:https://paprolife.org/wp-content/uploads/2024/10/Unplanned-Movie-Event.pdf
END:VEVENT
BEGIN:VEVENT
DTSTART;TZID=America/New_York:20250118T090000
DTEND;TZID=America/New_York:20250118T120000
DTSTAMP:20260425T235320
CREATED:20241024T145526Z
LAST-MODIFIED:20241024T150517Z
UID:5859-1737190800-1737201600@paprolife.org
SUMMARY:Pro-Life Breakfast At Erie
DESCRIPTION:People For Life‘s 47th Annual Pro-Life Breakfast will be held at the Bayfront Convention Center on Saturday\, January 18\, 2025. \nSpecial Guest Speaker will be Kaylee Stockton\, a high school shooting survivor at 16\, mom at 18\, pro-life activist with Students for Life of America\, and nursing student.\nMake your reservations online at tinyurl.com/ProLifeBreakfast2025 or by sending your payment directly to People for Life with a name for each reservation. \nStandard reservations are $28. Reservations for ages 3 to 12 are $22. Kids under 3 are welcome to attend at no cost. \nVisit www.peopleforlife.org for more information.
URL:https://paprolife.org/event/pro-life-breakfast-at-erie-2/
LOCATION:Bayfront Convention Center\, 1 Sassafras Pier\, Erie\, PA\, 16507\, United States
ATTACH;FMTTYPE=image/jpeg:https://paprolife.org/wp-content/uploads/2024/10/WTGT4014-e1729782299868.jpg
END:VEVENT
BEGIN:VEVENT
DTSTART;TZID=America/New_York:20250124T073000
DTEND;TZID=America/New_York:20250124T193000
DTSTAMP:20260425T235320
CREATED:20250115T155911Z
LAST-MODIFIED:20250115T155911Z
UID:6016-1737703800-1737747000@paprolife.org
SUMMARY:Harrisburg Bus To MFL
DESCRIPTION:The St. Margaret Mary Knights of Columbus Council is sponsoring a 56-passenger bus to the National March for Life in Washington\, D.C. that will depart STMM Church parking lot at 7:30 am and return approximately by 7:30 pm. The cost is $35 adult /$15 students and covers a light breakfast\, water\, and snacks. Lunch is on your own. Register at https://www.paypal.com/ncp/payment/ZSMKJH8A8XUN6  Contact respectlife@stmmparish.org with any questions.
URL:https://paprolife.org/event/harrisburg-bus-to-mfl/
LOCATION:Washington D.C\, 901-1013 Madison Dr NW\, Washington D.C\, DC\, 20004\, United States
ATTACH;FMTTYPE=image/jpeg:https://paprolife.org/wp-content/uploads/2024/01/pexels-jakob-scholz-808846-1-scaled.jpg
END:VEVENT
BEGIN:VEVENT
DTSTART;TZID=America/New_York:20250124T110000
DTEND;TZID=America/New_York:20250124T160000
DTSTAMP:20260425T235320
CREATED:20250115T155215Z
LAST-MODIFIED:20250115T155215Z
UID:6013-1737716400-1737734400@paprolife.org
SUMMARY:National March For Life
DESCRIPTION:Join thousands of pro-lifers across our nation to celebrate life and defend the unborn’s unalienable right to life. The 52nd National March for Life will be held on 24 January 2025 at Washington DC. The theme for the 2025 March is “Every Life: Why We March.” Looking for ideas for signs to take to the March? Visit this page for inspiration. \nFor more details regarding the route\, buses and schedule\, visit www.marchforlife.org.
URL:https://paprolife.org/event/national-march-for-life-2025/
LOCATION:Washington D.C\, 901-1013 Madison Dr NW\, Washington D.C\, DC\, 20004\, United States
ATTACH;FMTTYPE=image/png:https://paprolife.org/wp-content/uploads/2025/01/2025-March-For-Life.png
END:VEVENT
BEGIN:VEVENT
DTSTART;TZID=America/New_York:20250725T170000
DTEND;TZID=America/New_York:20250725T200000
DTSTAMP:20260425T235320
CREATED:20250719T145605Z
LAST-MODIFIED:20250719T145605Z
UID:6174-1753462800-1753473600@paprolife.org
SUMMARY:Teen's Pro-Life Rally
DESCRIPTION:Perry County teens (middle school and high school students) are invited to a Pro-Life Rally that will be held at River of Life Community Church on July 25th from 5pm onwards. The event will feature a pro-life movie and discussion along with carnival games and food. This is a FREE Event and you may reach out to Denny (717) 636-0302 with questions or sign up for the event here. RSVPs by July 20th.
URL:https://paprolife.org/event/teens-pro-life-rally/
LOCATION:River of Life Community Church\, 717 Pine Grove Road\, New Bloomfield\, PA\, 17068\, United States
ATTACH;FMTTYPE=application/pdf:https://paprolife.org/wp-content/uploads/2025/07/ProLife-Teen-Rally-Poster-July-25.pdf
END:VEVENT
BEGIN:VEVENT
DTSTART;VALUE=DATE:20250804
DTEND;VALUE=DATE:20250809
DTSTAMP:20260425T235320
CREATED:20250719T150100Z
LAST-MODIFIED:20250719T150100Z
UID:6179-1754265600-1754697599@paprolife.org
SUMMARY:Respect Life Rummage Sale
DESCRIPTION:The Annual Respect Life Rummage Sale will be held again this year at Our Lady of Guadalupe Church in Buckingham in Bucks County\, PA. Donations will be accepted on August 4th and 5th\, and the Sale will be held from August 6th – August 9th. For more information email  OLGRummageSale@gmail.com.
URL:https://paprolife.org/event/respect-life-rummage-sale/
LOCATION:Our Lady of Guadalupe Church\, 5194 Cold Spring Creamery Road\, Doylestown\, PA\, 18902\, United States
ATTACH;FMTTYPE=application/pdf:https://paprolife.org/wp-content/uploads/2025/07/2025RummageSaleChurchBulletin.pdf
END:VEVENT
BEGIN:VEVENT
DTSTART;TZID=America/New_York:20250922T110000
DTEND;TZID=America/New_York:20250922T110000
DTSTAMP:20260425T235320
CREATED:20250719T151221Z
LAST-MODIFIED:20250719T151221Z
UID:6182-1758538800-1758538800@paprolife.org
SUMMARY:Pennsylvania March For Life 2025
DESCRIPTION:Mark your calendars to join us and thousands of pro-life marchers across the Commonwealth for this year’s PA March For Life\, set to take place on 22nd September at the State Capitol in Harrisburg. Your presence will make a world of difference! More details to follow.
URL:https://paprolife.org/event/pa-march-for-life-2025/
LOCATION:Harrisburg State Capitol\, 501 N 3rd St\, Harrisburg\, PA\, 17120\, United States
ATTACH;FMTTYPE=application/pdf:https://paprolife.org/wp-content/uploads/2025/07/2025-pa-march-for-life.pdf
END:VEVENT
BEGIN:VEVENT
DTSTART;TZID=America/New_York:20251024T183000
DTEND;TZID=America/New_York:20251024T200000
DTSTAMP:20260425T235320
CREATED:20250719T152053Z
LAST-MODIFIED:20250719T152053Z
UID:6185-1761330600-1761336000@paprolife.org
SUMMARY:Celebrate Life! Banquet
DESCRIPTION:Save the date for our annual Celebrate Life! banquet – Friday\, October 24th at 6:30pm. Mark your calendars and join us for an inspiring evening with cable host news Kayleigh McEnany. Sponsorship and Individual registrations are open online at www.paprolife.org/banquet or call 717-541-0034. Downloadable forms are also available on the website.
URL:https://paprolife.org/event/celebrate-life-banquet/
LOCATION:The Hershey Lodge\, 325 University Dr\, Hershey\, 17033\, United States
ATTACH;FMTTYPE=application/pdf:https://paprolife.org/wp-content/uploads/2025/07/2025CelebrateLifePoster_Kayleightime.pdf
END:VEVENT
BEGIN:VEVENT
DTSTART;TZID=America/New_York:20260418T103000
DTEND;TZID=America/New_York:20260418T193000
DTSTAMP:20260425T235320
CREATED:20260311T235334Z
LAST-MODIFIED:20260417T191512Z
UID:6448-1776508200-1776540600@paprolife.org
SUMMARY:Pittsburgh March For Life
DESCRIPTION:The First Pittsburgh Pro-Life March is a joyful\, prayerful\, and hope-filled gathering of pro-lifers from across our city and region. For the first time\, we are coming together publicly to unite the Pittsburgh pro-life community\, strengthen one another\, and boldly proclaim that the culture of life is alive here. \nAs we launch this inaugural march\, we want to show our city that Pittsburgh is proudly pro-life—and that we stand for the protection and dignity of every human life. Our presence serves as a counter-witness to the pro-abortion initiatives in our community\, including Planned Parenthood\, local abortion vendors\, and the University of Pittsburgh’s unethical fetal experimentation. \nWe intentionally chose to march through the heart of Oakland for this historic first year. By walking through the university area\, we hope to plant seeds in the hearts of students and the broader community\, showing them that compassion\, truth\, and the defense of life have a strong and joyful presence in Pittsburgh. We pray that the Lord uses this first march and rally to convert hearts\, transform minds\, and bring renewal to our city. \nBut the First Pittsburgh Pro-Life March is more than a demonstration. It is a celebration of life—every life\, at every stage. We envision a Pittsburgh where every human being is cherished\, protected\, and welcomed. \n\n\n\n\n\nMarch and Rally Schedule\n\n\n\n\n\n\n\n\n\n\n10:00 am Pre-Rally Music and Pro-Life Tables \nSchenley Plaza\, 4100 Forbes Avenue\, Pittsburgh\, PA\, 15260 \n11:00 am Rally \n12:00 pm Pittsburgh Pro-Life March \n\n\n\n\n\n\n\n\n\n\nParking Information\n\n\n\n\n\n\n\n\n\n\nSoldiers and Sailors Parking Garage \n4390 Bigelow Blvd\, Pittsburgh\, PA\, 15213 \nForbes Semple Parking Garage \n210 Meyran Ave\, Pittsburgh\, PA\, 15213
URL:https://paprolife.org/event/pittsburg-march-for-life/
LOCATION:Schenley Plaza\, 4100 Forbes Ave\, Pittsburgh\, PA\, United States
ATTACH;FMTTYPE=image/webp:https://paprolife.org/wp-content/uploads/2026/03/PittsburghPro-LifeMarchLogo-2.webp
END:VEVENT
BEGIN:VEVENT
DTSTART;TZID=America/New_York:20260425T080000
DTEND;TZID=America/New_York:20260425T170000
DTSTAMP:20260425T235320
CREATED:20260417T204608Z
LAST-MODIFIED:20260417T205758Z
UID:6459-1777104000-1777136400@paprolife.org
SUMMARY:Philly March for Life
DESCRIPTION:Philly Pro-Life March– Join in for a day of unity for the unborn. \nFeaturing Ryan Bomberger co-founder of Radiance Foundation \nMass at 8am- SS Peter & Paul Cathedral \nMarch at 9am- Independence Mall \nRally at 10am- at the Mall
URL:https://paprolife.org/event/philly-march-for-life/
LOCATION:PA
ATTACH;FMTTYPE=image/avif:https://paprolife.org/wp-content/uploads/2026/04/Screen-Shot-2020-10-02-at-8_52_02-AM-cop.avif
END:VEVENT
BEGIN:VEVENT
DTSTART;TZID=America/New_York:20260502T104500
DTEND;TZID=America/New_York:20260502T150000
DTSTAMP:20260425T235320
CREATED:20260417T205154Z
LAST-MODIFIED:20260417T205642Z
UID:6461-1777718700-1777734000@paprolife.org
SUMMARY:Erie March for Life
DESCRIPTION:ERIE MARCH FOR LIFE \nRespect for All\, Big and Small \nSaturday\, May 2\, 2026 – 10:45 a.m. \nMeet in West Perry Square\, Erie\, PA
URL:https://paprolife.org/event/erie-march-for-life-2/
LOCATION:PA
ATTACH;FMTTYPE=image/webp:https://paprolife.org/wp-content/uploads/2026/04/march2018-scaled.webp
END:VEVENT
BEGIN:VEVENT
DTSTART;TZID=America/New_York:20260921T110000
DTEND;TZID=America/New_York:20260921T150000
DTSTAMP:20260425T235320
CREATED:20260417T210532Z
LAST-MODIFIED:20260417T211503Z
UID:6468-1789988400-1790002800@paprolife.org
SUMMARY:Pennsylvania March for Life
DESCRIPTION:Pennsylvania March for Life – This September \nBe part of something powerful. Join thousands from across the Commonwealth at the 2026 Pennsylvania March for Life on September 21st as we come together in support of life. \nThe day will begin with a rally at 11:00 a.m. at the State Capitol\, followed by the March at noon. Bring your friends\, your family\, and your passion—and stand alongside others who are committed to making a difference. \nFor more information\, contact us at lifelines@paprolife.org
URL:https://paprolife.org/event/pennsylvania-march-for-life/
LOCATION:Pennsylvania State Capitol Complex\, 501 N 3rd St\, Harrisburg\, PA\, 17120\, United States
ATTACH;FMTTYPE=image/png:https://paprolife.org/wp-content/uploads/2026/04/For-Life.png
END:VEVENT
END:VCALENDAR