BEGIN:VCALENDAR
VERSION:2.0
PRODID:-//PA Prolife Federation - ECPv6.15.18//NONSGML v1.0//EN
CALSCALE:GREGORIAN
METHOD:PUBLISH
X-WR-CALNAME:PA Prolife Federation
X-ORIGINAL-URL:https://paprolife.org
X-WR-CALDESC:Events for PA Prolife Federation
REFRESH-INTERVAL;VALUE=DURATION:PT1H
X-Robots-Tag:noindex
X-PUBLISHED-TTL:PT1H
BEGIN:VTIMEZONE
TZID:America/New_York
BEGIN:DAYLIGHT
TZOFFSETFROM:-0500
TZOFFSETTO:-0400
TZNAME:EDT
DTSTART:20230312T070000
END:DAYLIGHT
BEGIN:STANDARD
TZOFFSETFROM:-0400
TZOFFSETTO:-0500
TZNAME:EST
DTSTART:20231105T060000
END:STANDARD
BEGIN:DAYLIGHT
TZOFFSETFROM:-0500
TZOFFSETTO:-0400
TZNAME:EDT
DTSTART:20240310T070000
END:DAYLIGHT
BEGIN:STANDARD
TZOFFSETFROM:-0400
TZOFFSETTO:-0500
TZNAME:EST
DTSTART:20241103T060000
END:STANDARD
BEGIN:DAYLIGHT
TZOFFSETFROM:-0500
TZOFFSETTO:-0400
TZNAME:EDT
DTSTART:20250309T070000
END:DAYLIGHT
BEGIN:STANDARD
TZOFFSETFROM:-0400
TZOFFSETTO:-0500
TZNAME:EST
DTSTART:20251102T060000
END:STANDARD
END:VTIMEZONE
BEGIN:VEVENT
DTSTART;VALUE=DATE:20241019
DTEND;VALUE=DATE:20241020
DTSTAMP:20260425T235034
CREATED:20240402T154559Z
LAST-MODIFIED:20240402T154559Z
UID:5371-1729296000-1729382399@paprolife.org
SUMMARY:Cambria Somerset Pro-Life Breakfast
DESCRIPTION:Cambria Somerset CCHL is hosting this year’s breakfast on October 19\, 2024 (the third Saturday). The guest speaker will be Kristan Hawkins\, President of Students for Life Action. The breakfast will be at the Bishop Carroll Catholic High School Auditorium. More details to follow.
URL:https://paprolife.org/event/cambria-prayer-breakfast/
LOCATION:Bsp Carroll High School\, 728 Benjamin Franklin Hwy\, Ebensburg\, 15931\, United States
ATTACH;FMTTYPE=image/jpeg:https://paprolife.org/wp-content/uploads/2023/11/1-13-24-erie-prayer-breakfast.jpg
END:VEVENT
END:VCALENDAR