BEGIN:VCALENDAR
VERSION:2.0
PRODID:-//PA Prolife Federation - ECPv6.15.18//NONSGML v1.0//EN
CALSCALE:GREGORIAN
METHOD:PUBLISH
X-WR-CALNAME:PA Prolife Federation
X-ORIGINAL-URL:https://paprolife.org
X-WR-CALDESC:Events for PA Prolife Federation
REFRESH-INTERVAL;VALUE=DURATION:PT1H
X-Robots-Tag:noindex
X-PUBLISHED-TTL:PT1H
BEGIN:VTIMEZONE
TZID:America/New_York
BEGIN:DAYLIGHT
TZOFFSETFROM:-0500
TZOFFSETTO:-0400
TZNAME:EDT
DTSTART:20230312T070000
END:DAYLIGHT
BEGIN:STANDARD
TZOFFSETFROM:-0400
TZOFFSETTO:-0500
TZNAME:EST
DTSTART:20231105T060000
END:STANDARD
BEGIN:DAYLIGHT
TZOFFSETFROM:-0500
TZOFFSETTO:-0400
TZNAME:EDT
DTSTART:20240310T070000
END:DAYLIGHT
BEGIN:STANDARD
TZOFFSETFROM:-0400
TZOFFSETTO:-0500
TZNAME:EST
DTSTART:20241103T060000
END:STANDARD
BEGIN:DAYLIGHT
TZOFFSETFROM:-0500
TZOFFSETTO:-0400
TZNAME:EDT
DTSTART:20250309T070000
END:DAYLIGHT
BEGIN:STANDARD
TZOFFSETFROM:-0400
TZOFFSETTO:-0500
TZNAME:EST
DTSTART:20251102T060000
END:STANDARD
END:VTIMEZONE
BEGIN:VEVENT
DTSTART;TZID=America/New_York:20241012T073000
DTEND;TZID=America/New_York:20241012T230000
DTSTAMP:20260425T235033
CREATED:20241001T153215Z
LAST-MODIFIED:20241001T153215Z
UID:5798-1728718200-1728774000@paprolife.org
SUMMARY:Life Run
DESCRIPTION:People For Life Erie is hosting Life Run 2024 on Saturday\, October 12. The event features timed 10K & 5K races and a Fun Walk in the Wine Country of north east Erie County\, Pennsylvania. \nOnline registration and complete information is available at www.peopleforlife.org/liferun. Registrations will be gladly accepted until 15 minutes before race time. \nRace Date & Time\nSaturday\, October 12\, 2024\nRegistration & Sign-In Begins: 7:30 a.m.\nRace Time: 9 a.m. \nRegistration Fee\n$30.00\n$15.00 Ages 7 to 15\nFree for Ages 6 and under
URL:https://paprolife.org/event/life-run/
LOCATION:Slade Park\, 7840 Slade Rd\, Harborcreek\, PA\, United States
ATTACH;FMTTYPE=application/pdf:https://paprolife.org/wp-content/uploads/2024/10/liferunflyer2024.pdf
END:VEVENT
END:VCALENDAR